BEGIN:VCALENDAR
VERSION:2.0
PRODID:-//WEFTEC 2026 New Orleans — Local Booth Builder &amp; Rentals - ECPv6.15.13.1//NONSGML v1.0//EN
CALSCALE:GREGORIAN
METHOD:PUBLISH
X-WR-CALNAME:WEFTEC 2026 New Orleans — Local Booth Builder &amp; Rentals
X-ORIGINAL-URL:https://weftec2026.com
X-WR-CALDESC:Events for WEFTEC 2026 New Orleans — Local Booth Builder &amp; Rentals
REFRESH-INTERVAL;VALUE=DURATION:PT1H
X-Robots-Tag:noindex
X-PUBLISHED-TTL:PT1H
BEGIN:VTIMEZONE
TZID:UTC
BEGIN:STANDARD
TZOFFSETFROM:+0000
TZOFFSETTO:+0000
TZNAME:UTC
DTSTART:20250101T000000
END:STANDARD
END:VTIMEZONE
BEGIN:VEVENT
DTSTART;TZID=UTC:20260303T090000
DTEND;TZID=UTC:20260306T235959
DTSTAMP:20260421T173247
CREATED:20251010T093729Z
LAST-MODIFIED:20251010T093729Z
UID:25550-1772528400-1772841599@weftec2026.com
SUMMARY:NATURAL PRODUCTS EXPO WEST 2026
DESCRIPTION:NATURAL PRODUCTS EXPO WEST 2026 — Exhibitor Guide & Ultimate Booth Options\nAbout NATURAL PRODUCTS EXPO WEST 2026\nVenue & Location\nAnaheim CA: Our Services\nCustom Booth Models\nFAQ\nAbout NATURAL PRODUCTS EXPO WEST 2026\nNATURAL PRODUCTS EXPO WEST 2026 booth rental is your gateway to one of the most significant gatherings in the Natural & Organic Food industry. Held from Feb 25–March 1\, 2026\, at Anaheim Convention Center\, you’ll discover exciting new products and innovations. This expo showcases advancements in natural\, organic\, and healthy products with opportunities to connect with exhibitors and industry experts. \nKey Details: Feb 25–March 1\, 2026; Anaheim Convention Center\, 800 W. Katella Ave. Anaheim\, CA 92802\, USA. \nIndustries & Audience: Expect a diverse audience from Natural & Organic Food\, Food Processing Industries\, Catering & Hospitality Industries\, Beauty & Personal Care\, Environmental Protection. \nVenue & Location\nThe NATURAL PRODUCTS EXPO WEST 2026 takes place at the Anaheim Convention Center located at 800 W. Katella Ave.\, Anaheim\, CA\, USA. Convenient for logistics\, the venue features ample dock access and excellent centralized location\, making it easy for exhibitors to manage their booth setups. \nIf you have any questions\, feel free to call us at our venue phone. \nAnaheim CA: Our Services\nIn Anaheim CA\, we DESIGN\, PRODUCE\, INSTALL & DISMANTLE turnkey booth rentals. Our scope includes comprehensive concept design\, modular frames\, branded SEG graphics\, reception and storage areas\, TV mounts\, and on-site installation and dismantling services. Trust us to make your exhibit stand out! \nCustom Booth Models\nOur popular booth footprints include: \n\n10×10 Booths: Ideal for small businesses launching their first products and needing maximum visibility.\n10×20 Booths: Great for brands that want to showcase multiple products while maintaining a welcoming space.\n20×20 Booths: Perfect for large exhibitors looking to create an impactful centerpiece in the hall.\n\nExplore our Snap Exhibitions Custom Booth Models and learn how we provide full-service exhibit support to ensure you have the best experience. \nFAQ\n\nWhat is NATURAL PRODUCTS EXPO WEST 2026 booth rental? It provides exhibitors the opportunity to showcase their products at one of the leading expos in the natural products industry.\nWhen is NATURAL PRODUCTS EXPO WEST 2026? The event runs from Feb 25 to March 1\, 2026.\nWhat are the recommended booth sizes for Natural & Organic Food exhibitors? Sizes like 10×10 or 10×20 are popular for maintaining visibility and interaction.\nWhy is an aluminum booth better than wood? Aluminum is lighter\, more durable\, and allows for easier assembly and transport.\nWhat services can I expect in Anaheim? This city offers a range of logistics and support services to make your exhibit a success.\nHow can SNAP EXHIBITIONS help to make everything perfect about their booth? We specialize in turnkey booth rentals\, ensuring design\, setup\, and support every step of the way.\nWhat is special about NATURAL PRODUCTS EXPO WEST 2026? It’s a premier platform for showcasing the latest innovations in natural products.\n\nYour opportunity awaits with NATURAL PRODUCTS EXPO WEST 2026 booth rental. Contact us today at Snap Exhibitions to learn how we can help you make the most out of this exhibition!
URL:https://weftec2026.com/event/natural-products-expo-west-2026/
CATEGORIES:Beauty & Personal Care,Catering & Hospitality Industries,Environmental Protection,Food Processing Industries,Natural & Organic Food
END:VEVENT
BEGIN:VEVENT
DTSTART;TZID=UTC:20260306T090000
DTEND;TZID=UTC:20260308T235959
DTSTAMP:20260421T173247
CREATED:20251010T093319Z
LAST-MODIFIED:20251010T093319Z
UID:25540-1772787600-1773014399@weftec2026.com
SUMMARY:PENNSYLVANIA SPRING HOME SHOW 2026
DESCRIPTION:PENNSYLVANIA SPRING HOME SHOW 2026 — Exhibitor Guide & Custom Booth Options\nAbout PENNSYLVANIA SPRING HOME SHOW 2026\nPENNSYLVANIA SPRING HOME SHOW 2026 booth rental is essential for anyone looking to remodel or renovate their home. This premier gathering at the Allentown Fairgrounds will feature top industry exhibitors showcasing the latest trends in home improvement\, covering everything from kitchen renovations to garden landscaping. Visitors will gain valuable insights from leading professionals in the field\, ensuring that their projects are both stylish and functional. \nKey Details: Mar 30–Apr 1\, 9:00 AM–5:00 PM Allentown Fairgrounds 302 N 17th St. Allentown PA\, 18104\, United States  \nIndustries & Audience: Home Show\, Renewal – Renovations\, Decoration\, Home & Office Design\, Furniture\, Lighting\, Kitchen & Bathroom\, Heating – Air Conditioning\, Gardening\, Household Appliances – Domestic Appliance Technology\, Swimming Pool\, Sauna & Spa \nVenue & Location\nThe event will take place at Allentown Fairgrounds\, located at 302 N 17th St. in Allentown\, PA. With easy access for exhibitors\, the venue features efficient logistics for move-in and dock access. For any inquiries\, feel free to call us. \nAllentown\, PA: Our Services\nWe DESIGN\, PRODUCE\, INSTALL & DISMANTLE turnkey booth rentals in Allentown\, PA. Our comprehensive services include concept/design\, modular frames\, branded SEG graphics\, reception/storage areas\, and TV mounts\, ensuring a seamless experience for exhibitors. \nCustom Booth Models\nExplore our popular footprints including Snap Exhibitions Custom Booth Models: 10×10\, 10×20\, and 20×20 options. These sizes are ideal for attendees in home improvement sectors\, allowing for engaging displays and effective customer interactions. \nFor those seeking comprehensive support\, we offer full-service exhibit support\, covering everything from design to onsite installation and dismantling. \nIf you’re ready to elevate your presence at this year’s show\, contact our team to get started! \nFAQ\n\nWhat is PENNSYLVANIA SPRING HOME SHOW 2026 booth rental? PENNSYLVANIA SPRING HOME SHOW 2026 booth rental is a service we provide to enable exhibitors to showcase their products effectively at the event.\nWhat are the event dates and hours? The event will take place from Mar 30 to Apr 1\, 9:00 AM to 5:00 PM.\nWhat are recommended booth sizes for home improvement sectors? Popular booth sizes include 10×10 for smaller displays\, 10×20 for medium engagement\, and 20×20 for larger\, more immersive setups.\nWhy is an aluminum booth better than wood? Aluminum booths are lighter\, more durable\, and more portable compared to wooden ones\, making them a preferred choice for many exhibitors.\nWhat can I expect from SNAP EXHIBITIONS in Allentown? We provide a comprehensive range of services including design\, installation\, and support to ensure your booth at PENNSYLVANIA SPRING HOME SHOW 2026 is a success.\nHow can I make my booth stand out at the Home Show? Innovative designs\, attractive graphics\, and engaging interactions are key. Consider our turnkey solutions for maximum impact.\n\nIn conclusion\, if you’re looking for the best PENNSYLVANIA SPRING HOME SHOW 2026 booth rental solutions\, we’re here to help. For customization options that will elevate your project\, contact our team today!
URL:https://weftec2026.com/event/pennsylvania-spring-home-show-2026/
CATEGORIES:Decoration,Furniture,Gardening,Heating - Air Conditioning,Home & Office Design,Home Show,Household Appliances - Domestic Appliance Technology,Kitchen & Bathroom,Lighting,Renewal - Renovations,Sauna & Spa,Swimming Pool
END:VEVENT
END:VCALENDAR