BEGIN:VCALENDAR
VERSION:2.0
PRODID:-//WEFTEC 2026 New Orleans — Local Booth Builder &amp; Rentals - ECPv6.15.13.1//NONSGML v1.0//EN
CALSCALE:GREGORIAN
METHOD:PUBLISH
X-ORIGINAL-URL:https://weftec2026.com
X-WR-CALDESC:Events for WEFTEC 2026 New Orleans — Local Booth Builder &amp; Rentals
REFRESH-INTERVAL;VALUE=DURATION:PT1H
X-Robots-Tag:noindex
X-PUBLISHED-TTL:PT1H
BEGIN:VTIMEZONE
TZID:UTC
BEGIN:STANDARD
TZOFFSETFROM:+0000
TZOFFSETTO:+0000
TZNAME:UTC
DTSTART:20250101T000000
END:STANDARD
END:VTIMEZONE
BEGIN:VEVENT
DTSTART;TZID=UTC:20260314T090000
DTEND;TZID=UTC:20260319T235959
DTSTAMP:20260419T121351
CREATED:20251010T093814Z
LAST-MODIFIED:20251010T093814Z
UID:25552-1773478800-1773964799@weftec2026.com
SUMMARY:IPC APEX EXPO 2026
DESCRIPTION:IPC APEX EXPO 2026 booth rental — Essential Guide & Custom Booth Options\nAbout IPC APEX EXPO 2026\nIPC APEX EXPO 2026 booth rental is your gateway to the world of electronics manufacturing in North America. This industry-leading event attracts professionals from **Electronic Design & Components**\, **Power electronics**\, and **Applied Computer & Industrial Engineering** sectors. Visitors and exhibitors alike benefit from an extensive trade show featuring cutting-edge technical conferences and valuable networking opportunities. \nKey Details: April 6–8\, 9:00 AM–5:00 PM\, Anaheim Convention Center\, 800 W. Katella Ave.\, Anaheim\, CA 92802\, United States. Discover more at the IPC APEX EXPO website. \nIndustries & Audience: This trade show is tailored for sectors including **Electronic Design & Components**\, **Power electronics**\, **Sciences for Engineers – R&D**\, and more. \nVenue & Location\nJoin us at the Anaheim Convention Center\, conveniently located at 800 W. Katella Ave.\, Anaheim\, CA 92802\, USA. This venue offers ample logistics and accessibility options for all exhibitors. \nAnaheim\, CA: Our Services\nWe DESIGN\, PRODUCE\, INSTALL & DISMANTLE turnkey booth rentals in Anaheim\, CA. Our services encompass concept development\, modular frame construction\, branded SEG graphics\, and on-site installation and dismantling\, ensuring a seamless exhibitor experience. \nCustom Booth Models\nExplore our Snap Exhibitions Custom Booth Models available in popular footprints like 10×10\, 10×20\, and 20×20. Each design is crafted to capture the attention of attendees in the **Electronic Design & Components** sector. We also provide full-service exhibit support to tailor-fit your booth needs. \nFor those seeking assistance in creating the perfect exhibitor setup\, please contact our team. \nFAQ\nQ: What is IPC APEX EXPO 2026 booth rental? \nA: IPC APEX EXPO 2026 booth rental provides businesses with an opportunity to showcase their products in the electronics manufacturing industry. \nQ: What are the event hours for IPC APEX EXPO 2026? \nA: The event hours are April 6–8\, 9:00 AM–5:00 PM. \nQ: What recommended booth sizes are ideal for exhibitors in the Electronics sector? \nA: Popular sizes include 10×10 for startups\, 10×20 for mid-sized companies\, and 20×20 for larger exhibitors. \nQ: Why is an aluminium booth better than wood? \nA: Aluminium booths are light\, durable\, and easy to customize\, making them more efficient for exhibitors compared to traditional wood options. \nQ: How can I find more services in Anaheim? \nA: There are numerous attractions and services available in Anaheim\, enhancing your experience while here. \nQ: How can SNAP EXHIBITIONS help make everything perfect about my booth? \nA: We specialize in providing turnkey booth rentals\, offering comprehensive support from concept to execution\, ensuring your exhibitor experience is flawless. \nIn summary\, IPC APEX EXPO 2026 booth rental is your key to success in electronics manufacturing. Don’t hesitate to reach out to us for your turnkey booth rentals and make a standout impression at your next event! For more information\, visit us at our website.
URL:https://weftec2026.com/event/ipc-apex-expo-2026/
CATEGORIES:Applied Computer & Industrial Engineering,Electronic Design & Components,Power electronics,Sciences for Engineers - Research & Development,Subcontracting,Suppliers & Partners
END:VEVENT
BEGIN:VEVENT
DTSTART;TZID=UTC:20260203T090000
DTEND;TZID=UTC:20260205T235959
DTSTAMP:20260419T121351
CREATED:20251010T093951Z
LAST-MODIFIED:20251010T093951Z
UID:25555-1770109200-1770335999@weftec2026.com
SUMMARY:IM ENGINEERING WEST 2026
DESCRIPTION:IM ENGINEERING WEST 2026 booth rental — Essential Exhibitor Guide & Custom Booth Options\nAbout IM ENGINEERING WEST 2026\nVenue & Location\nAnaheim CA: Our Services\nCustom Booth Models\nFAQ\nIM ENGINEERING WEST 2026 booth rental provides the perfect opportunity for exhibitors to connect with leaders in various sectors including MedTech\, Packaging\, Automation\, Design\, and Plastics. This premier advanced manufacturing event will allow attendees to explore innovative solutions and technologies directly impacting their industries. \nKey Details: Dates: Jan 20-22\, 2026\, 9:00 AM–5:00 PM Location: Anaheim Convention Center Address: 800 W. Katella Ave. Anaheim\, CA 92802\, United States Event Website \nIndustries & Audience: Industrial Controllers\, Robotics\, Plastics\, Rubber\, Composites\, Metal Working Industries\, Packaging\, Equipments & Technologies for Medical and Surgery\, Applied Computer & Industrial Engineering\, Real Time Systems & Embedded Systems. \nVenue & Location\nThe event will be hosted at the Anaheim Convention Center\, located at 800 W. Katella Ave. Anaheim\, CA 92802\, USA. This venue is well-equipped for exhibitors with central access and logistic capabilities suitable for all your needs during the event. If you have any inquiries\, feel free to reach out via phone. \nAnaheim CA: Our Services\nWe design\, produce\, install\, and dismantle turnkey booth rentals in Anaheim\, CA. Our services include concept/design\, modular frames\, branded SEG graphics\, reception/storage\, and TV mount\, ensuring a smooth experience from start to finish. \nCustom Booth Models\nOur Snap Exhibitions Custom Booth Models are tailored for all attendees and exhibitors\, featuring popular footprints such as: \n\n10×10: Ideal for start-ups and smaller firms focusing on key messaging and brand visibility.\n10×20: Perfect for medium-sized companies wanting to showcase diverse product offerings.\n20×20: Best for larger displays focusing on expansive product lines\, providing space for interaction.\n\nFor all designs\, we offer a full-service exhibit support. \nFAQ\n\nWhat is IM ENGINEERING WEST 2026 booth rental?IM ENGINEERING WEST 2026 booth rental enables exhibitors to gain essential access to networking and showcasing opportunities.\nWhat are the event hours/dates?The event runs from January 20-22\, 2026\, from 9:00 AM to 5:00 PM.\nWhat are the recommended booth sizes for Industrial Controllers?For the Industrial Controllers sector\, we recommend a minimum of 10×10 for effective engagement.\nWhy is an aluminum booth better than wood?Aluminum booths are lighter\, more durable\, and offer better design flexibility compared to traditional wooden booths.\nWhat can we expect to see in Anaheim?Anaheim is lively with attractions that can enhance your experience during the event.\nHow can SNAP EXHIBITIONS help make everything perfect about their booth?We provide comprehensive support from design concept to installation\, ensuring a flawless exhibition experience.\nWhat are the benefits of exhibiting at IM ENGINEERING WEST 2026?Exhibitors will connect with niche sectors\, explore innovations\, and enhance their direct audience engagement.\n\nIn conclusion\, we encourage you to consider IM ENGINEERING WEST 2026 booth rental for your exhibiting needs. Our team is here to help make your participation a success. For more information\, contact our team today!
URL:https://weftec2026.com/event/im-engineering-west-2026/
CATEGORIES:Applied Computer & Industrial Engineering,Composites,Equipments & Technologies for Medical and Surgery,Industrial Controllers,Metal Working Industries,Packaging,Plastics,Real Time Systems & Embedded Systems,Robotics,Rubber
END:VEVENT
BEGIN:VEVENT
DTSTART;TZID=UTC:20260203T090000
DTEND;TZID=UTC:20260205T235959
DTSTAMP:20260419T121351
CREATED:20251010T093924Z
LAST-MODIFIED:20251010T093924Z
UID:25554-1770109200-1770335999@weftec2026.com
SUMMARY:DESIGN & MANUFACTURING WEST 2026
DESCRIPTION:DESIGN & MANUFACTURING WEST 2026 booth rental — Ultimate Exhibitor Guide & Custom Booth Options\nAbout DESIGN & MANUFACTURING WEST 2026\nVenue & Location\nAnaheim CA: Our Services\nCustom Booth Models\nFAQ\nDESIGN & MANUFACTURING WEST 2026 — Show Overview\nJoin us at DESIGN & MANUFACTURING WEST 2026 booth rental for a transformative experience in the manufacturing sector. Exhibitors can showcase cutting-edge technologies and services that will revolutionize design and manufacturing processes. \nThis event will take place from June 26–28\, 2026\, at the Anaheim Convention Center\, located at 800 W. Katella Ave\, Anaheim\, CA 92802\, USA. Come witness live demonstrations of the latest innovations in Machines-tools\, Robotics\, Industrial Controllers\, CAD/CAM\, Metal Working\, Plastics\, Rubber\, Composites\, and more! \n**Key Details:**  \nDates: Jun 26–28\, 2026 \nLocation: Anaheim Convention Center \nAddress: 800 W. Katella Ave\, Anaheim\, CA 92802\, USA \nWebsite: Visit the event page \nThis event targets key industries including Machines-tools\, Robotics\, Industrial Controllers\, CAD/CAM – Design – Modelisation\, Metal Working Industries\, and Plastics\, making it an essential gathering for professionals in these sectors. \nVenue & Location\nThe Anaheim Convention Center at 800 W. Katella Ave\, Anaheim\, CA\, is the ideal venue for this expansive event. With excellent logistics including ample space for move-in and dock access\, it’s perfectly equipped to host exhibitions of this scale. \nFor any inquiries\, feel free to reach out through the venue’s contact point. \nAnaheim CA: Our Services\nIn Anaheim CA\, we DESIGN\, PRODUCE\, INSTALL & DISMANTLE turnkey booth rentals. Our services encompass everything from concept and design to modular frames and branded SEG graphics\, ensuring your booth stands out at DESIGN & MANUFACTURING WEST 2026. Additionally\, we provide reception/storage solutions and TV mounts\, along with on-site installation and dismantling. \nCustom Booth Models\nWe offer various popular footprints that cater to the diverse needs of attendees in the Machines-tools\, Robotics\, and related sectors. Our sizes include: \n\n10×10 booths – Perfect for startups or smaller businesses wishing to make a bold statement.\n10×20 booths – Ideal for mid-sized presentations with more interactive elements.\n20×20 booths – Best suited for larger setups that require extensive showcase space.\n\nOur booths blend quality and innovation to ensure you attract visitors and leave a lasting impression. For additional information about services\, visit our full-service exhibit support. \nFAQ\nQ: What is DESIGN & MANUFACTURING WEST 2026 booth rental? \nA: It refers to a range of options available for exhibitors looking to showcase their offerings effectively at the event. \nQ: What are the event hours for DESIGN & MANUFACTURING WEST 2026? \nA: The event will run from June 26–28\, 2026. Exact hours will be provided closer to the date. \nQ: What booth sizes are recommended for the Manufacturing industry sectors? \nA: We recommend sizes such as 10×20 and 20×20 for engaging demos in the manufacturing sectors. \nQ: Why is an aluminum booth better than wood? \nA: Aluminum booths are lighter\, more durable\, and easier to transport\, making them ideal for dynamic environments like expos. \nQ: What services does Snap Exhibitions provide in Anaheim? \nA: We offer design\, production\, installation\, and dismantling services\, ensuring a seamless experience. \nQ: How can Snap Exhibitions help make everything perfect about my booth?\nA: We take care of every detail\, from booth design to logistics\, allowing you to focus on connecting with your audience. \nQ: What can I expect as an exhibitor at DESIGN & MANUFACTURING WEST 2026? \nA: Expect to engage with an audience interested in the latest manufacturing innovations and technologies\, creating valuable networking opportunities. \nFor unparalleled support and a standout experience at DESIGN & MANUFACTURING WEST 2026 booth rental\, contact our team today!
URL:https://weftec2026.com/event/design-manufacturing-west-2026/
CATEGORIES:Applied Computer & Industrial Engineering,CAD/CAM - Design - Modelisation,Composites,Industrial Controllers,Machines-tools - Tools,Metal Working Industries,Plastics,Rapid Prototyping & Additive Manufacturing,Robotics,Rubber
END:VEVENT
BEGIN:VEVENT
DTSTART;TZID=UTC:20260203T090000
DTEND;TZID=UTC:20260205T235959
DTSTAMP:20260419T121351
CREATED:20251010T093706Z
LAST-MODIFIED:20251010T093706Z
UID:25549-1770109200-1770335999@weftec2026.com
SUMMARY:WEST PACK 2026
DESCRIPTION:WEST PACK 2026 booth rental — Exhibitor Guide & Premium Options\n#show\n#venue\n#city-services\n#booth-models\n#faq\nWEST PACK 2026 — About the Event\nWEST PACK 2026 booth rental is the ideal solution for exhibitors aiming to establish an impactful presence at this major show in Anaheim\, CA. This event highlights innovative packaging ideas and solutions\, attracting industry professionals from diverse sectors such as **Packaging\, Logistics & Transportation Engineering**\, **Graphic Design**\, and **Industrial Engineering**. Visitors benefit from exposure to the latest packaging machinery\, material handling products\, and expert insights into outsourcing services. \nKey Details:\nStart Date: Jan 31 – Feb 2\, 2026\nLocation: Anaheim Convention Center\, 800 W. Katella Ave.\, Anaheim\, CA 92802\, USA \nVenue & Location\nThe WEST PACK 2026 event will take place at the Anaheim Convention Center\, located at 800 W. Katella Ave.\, Anaheim\, CA 92802\, USA. The venue offers convenient logistics\, ensuring exhibitors can easily access the facility for setup and breakdown. For inquiries\, feel free to contact the venue directly. \nANAHEIM CA: Our Services\nIn Anaheim\, CA\, we DESIGN\, PRODUCE\, INSTALL & DISMANTLE turnkey booth rentals for WEST PACK 2026. Our comprehensive offerings include booth concept and design\, modular frames\, branded SEG graphics\, reception areas\, storage solutions\, and TV mounts. We ensure every exhibitor achieves their goals with a professional presentation. \nCustom Booth Models\nWe provide a variety of popular booth sizes that fit the needs of exhibitors in the **packaging and logistics** sectors. Consider our 10×10\, 10×20\, and 20×20 booth rentals which allow for seamless display options\, maximizing visibility and engagement. \n\nExplore Snap Exhibitions Custom Booth Models.\nLearn about our full-service exhibit support.\nFor more information\, contact our team.\n\nFAQ\n\nWhat is WEST PACK 2026 booth rental? It is a service that provides exhibitors with professionally designed and installed booths for maximum impact.\nWhat are the dates and hours for WEST PACK 2026?WEST PACK 2026 runs from Jan 31 to Feb 2\, 2026.\nWhat recommended booth sizes are best for the packaging sector? We suggest 10×10 and 10×20 booths for efficient space usage.\nWhy is aluminum a better choice than wood for booths? Aluminum structures are lighter\, more durable\, and offer modern aesthetics compared to traditional wooden booths.\nWhat should I know about Anaheim when attending WEST PACK 2026? As a bustling city\, Anaheim offers plenty of amenities and attractions for visitors.\nHow can SNAP EXHIBITIONS help make everything perfect about my booth? We handle all aspects of booth design\, setup\, and logistics\, ensuring a stress-free experience for exhibitors.\n\nFor an impactful presence at WEST PACK 2026 booth rental\, visit our contact page to get started and maximize your exhibitor experience!
URL:https://weftec2026.com/event/west-pack-2026/
CATEGORIES:Applied Computer & Industrial Engineering,Editing,Graphic Design,Industrial Controllers,Logistics & Transportation Engineering - Handling Operations - Storage,Packaging,Printing
END:VEVENT
BEGIN:VEVENT
DTSTART;TZID=UTC:20260203T090000
DTEND;TZID=UTC:20260205T235959
DTSTAMP:20260419T121351
CREATED:20251010T093642Z
LAST-MODIFIED:20251010T093642Z
UID:25548-1770109200-1770335999@weftec2026.com
SUMMARY:PLASTEC WEST 2026
DESCRIPTION:PLASTEC WEST 2026 booth rental — Impactful Solutions\nAbout PLASTEC WEST 2026\nPLASTEC WEST 2026 booth rental is your gateway to innovation in plastics\, rubber\, composites\, and more. This premier exhibition will take place at the Anaheim Convention Center\, where you’ll interact with world-class plastics suppliers\, test the latest technologies\, network with industry peers\, and expand your industry knowledge. Key Details: Jan 19–21\, 2026\, 9:00 AM–5:00 PM\, Anaheim Convention Center\, 800 W. Katella Ave. Anaheim\, CA 92802\, United States. \nIndustries & Audience: Plastics\, Rubber\, Composites\, Mould & Die\, Advanced Materials\, Applied Computer & Industrial Engineering\, Subcontracting\, Suppliers & Partners. \nVenue & Location\nThe event will be held at the Anaheim Convention Center located at 800 W. Katella Ave.\, Anaheim\, CA\, United States. The venue offers central access and dock access for logistics. For any inquiries\, feel free to reach out by phone. \nAnaheim CA: Our Services\nWe DESIGN\, PRODUCE\, INSTALL & DISMANTLE turnkey booth rentals in Anaheim CA. Our services encompass concept & design\, modular frames\, branded SEG graphics\, reception/storage\, TV mount\, and on-site installation & dismantling. \nCustom Booth Models\nExplore our Snap Exhibitions Custom Booth Models. We offer popular footprints like 10×10\, 10×20\, and 20×20 booths\, each tailored to serve the plastics industry’s unique demands. For comprehensive support\, check our full-service exhibit support. Ready to start planning? Contact our team now! \nFAQ\n\nWhat is PLASTEC WEST 2026 booth rental?\nPLASTEC WEST 2026 booth rental includes fully customized booth options designed to optimize your exhibition experience.\nWhen is PLASTEC WEST?\nPLASTEC WEST will take place from January 19–21\, 2026\, from 9:00 AM to 5:00 PM each day.\nWhat booth sizes are recommended for plastics industry sectors?\nTypically\, 10×10 or 10×20 booths suit the needs of exhibitors in the plastics industry to showcase their innovations effectively.\nWhy is an aluminum booth better than wood?\nAluminum booths are lighter and more durable compared to wood\, offering a seamless setup and modern appeal.\nWhat services do you offer in Anaheim?\nIn Anaheim\, we provide comprehensive booth rental services\, including design\, production\, and on-site assembly.\nWhat is PLASTEC WEST about?\nPLASTEC WEST 2026 focuses on the latest in plastics processing solutions and innovations.\nHow can SNAP EXHIBITIONS help make everything perfect about my booth?\nWe specialize in creating turnkey booth rentals\, ensuring every detail is tailored to your needs for a successful exhibition experience.\n\nPLASTEC WEST 2026 booth rental is your competitive edge in showcasing your products. For more details on how we can assist you in making an impact\, contact our team today!
URL:https://weftec2026.com/event/plastec-west-2026/
CATEGORIES:Advanced Materials,Applied Computer & Industrial Engineering,Composites,Mould & Die,Plastics,Rubber,Subcontracting,Suppliers & Partners
END:VEVENT
BEGIN:VEVENT
DTSTART;TZID=UTC:20260203T090000
DTEND;TZID=UTC:20260205T235959
DTSTAMP:20260419T121351
CREATED:20251010T093553Z
LAST-MODIFIED:20251010T093553Z
UID:25546-1770109200-1770335999@weftec2026.com
SUMMARY:ATX WEST 2026
DESCRIPTION:ATX WEST 2026 booth rental — Ultimate Exhibitor Guide & Custom Booth Options\nTable of Contents\n\nAbout ATX WEST 2026\nVenue & Location\nAnaheim CA: Our Services\nCustom Booth Models\nFAQ\n\nAbout ATX WEST 2026\nATX WEST 2026 booth rental options are available now! This event is a must-attend for those in the Industrial Controllers\, CAD/CAM – Design – Modelling\, Robotics\, Applied Computer & Industrial Engineering\, Metal Working Industries\, Rapid Prototyping & Additive Manufacturing\, Knowledge Based Systems & Artificial Intelligence\, Sciences for Engineers – Research & Development sectors\, bringing together leading brands to connect and showcase cutting-edge industrial machinery\, AI\, robotics\, and maintenance advancements. \nAttendees will gain insight into premier automation solutions for their companies from Feb 21–23\, 9:00 AM–5:00 PM at the Anaheim Convention Center\, located at 800 W. Katella Ave\, Anaheim\, CA 92802\, USA. \nKey Details\n\nDates: Feb 21-23\, 9:00 AM–5:00 PM\nLocation: Anaheim Convention Center\nAddress: 800 W. Katella Ave\, Anaheim\, CA 92802\nCountry: United States\n\nVenue & Location\nThe ATX WEST 2026 will be hosted at the Anaheim Convention Center\, located at 800 W. Katella Ave\, Anaheim\, CA 92802\, United States. The venue offers excellent logistics for exhibitors\, including convenient move-in windows and dock access. \nIf you need to reach the venue\, please contact via the provided phone number. \nAnaheim CA: Our Services\nIn Anaheim\, we DESIGN\, PRODUCE\, INSTALL & DISMANTLE turnkey booth rentals. Our services include concept/design\, modular frames\, branded SEG graphics\, reception/storage setups\, TV mounts\, and on-site installation and dismantling. \nWe cater to various booth sizes\, such as 10×10\, 10×20\, and 20×20 footprints\, tailored to meet the needs of exhibitors in the industrial and technology sectors. \nCustom Booth Models\nExplore our Snap Exhibitions Custom Booth Models designed specifically for your needs\, offering robust visuals and effective visitor engagement strategies. \nFor a smoother experience\, utilize our full-service exhibit support\, ensuring everything is handled by our expert team. \nIf you’re ready to elevate your presence at ATX WEST 2026\, contact our team today! \nFAQ\nWhat are the ATX WEST 2026 booth rental options?\nWe offer a range of turnkey booth rental solutions suitable for all applicants. Whether you choose a 10×10 or a larger footprint\, we ensure your presence stands out. \nWhat are the event hours for ATX WEST 2026?\nThe event will run from Feb 21 to Feb 23\, 9:00 AM–5:00 PM. \nWhat booth sizes are recommended for the industrial sector?\nWe recommend booth sizes of 10×20 and 20×20 for optimal display of machinery and technology. \nWhy is an aluminum booth better than wood?\nAluminum offers durability\, a modern look\, and is significantly lighter than wood\, making it easier to transport and set up. \nWhat’s special about the Anaheim Convention Center?\nThe Anaheim Convention Center provides central access and ample space for exhibitors to connect with their audiences effectively. \nHow can SNAP EXHIBITIONS help make everything perfect about their booth?\nWe take care of every detail\, from design to installation\, ensuring your booth reflects your brand identity and draws visitors effectively. \nIn conclusion\, ATX WEST 2026 booth rental options are tailored for you! Don’t miss your chance to stand out at this premier event\, and contact us today for customized solutions that fit your company’s needs!
URL:https://weftec2026.com/event/atx-west-2026/
CATEGORIES:Applied Computer & Industrial Engineering,CAD/CAM - Design - Modelisation,Industrial Controllers,Knowledge Based Systems & Artificial Intelligence,Metal Working Industries,Rapid Prototyping & Additive Manufacturing,Robotics,Sciences for Engineers - Research & Development
END:VEVENT
END:VCALENDAR