BEGIN:VCALENDAR
VERSION:2.0
PRODID:-//WEFTEC 2026 New Orleans — Local Booth Builder &amp; Rentals - ECPv6.15.13.1//NONSGML v1.0//EN
CALSCALE:GREGORIAN
METHOD:PUBLISH
X-ORIGINAL-URL:https://weftec2026.com
X-WR-CALDESC:Events for WEFTEC 2026 New Orleans — Local Booth Builder &amp; Rentals
REFRESH-INTERVAL;VALUE=DURATION:PT1H
X-Robots-Tag:noindex
X-PUBLISHED-TTL:PT1H
BEGIN:VTIMEZONE
TZID:UTC
BEGIN:STANDARD
TZOFFSETFROM:+0000
TZOFFSETTO:+0000
TZNAME:UTC
DTSTART:20250101T000000
END:STANDARD
END:VTIMEZONE
BEGIN:VEVENT
DTSTART;TZID=UTC:20260312T090000
DTEND;TZID=UTC:20260318T235959
DTSTAMP:20260421T173409
CREATED:20251010T094756Z
LAST-MODIFIED:20251010T094756Z
UID:25573-1773306000-1773878399@weftec2026.com
SUMMARY:SXSW - SOUTH BY SOUTHWEST 2026
DESCRIPTION:SXSW – SOUTH BY SOUTHWEST 2026 booth rental — Premium Exhibitor Guide & Custom Booth Options\nAbout SXSW – SOUTH BY SOUTHWEST 2026\nVenue & Location\nAustin TX: Our Services\nCustom Booth Models\nFAQ\nSXSW – SOUTH BY SOUTHWEST 2026\nSXSW – SOUTH BY SOUTHWEST 2026 booth rental is your gateway to making a significant impact at this iconic festival. Designed for industries like Video Games – Interactive Entertainment\, Broadcasting\, and Music\, this event provides extensive networking and promotional opportunities. Exhibitors will engage with the latest innovations across the interactive\, music\, and film sectors\, enhancing their visibility and reach. \nKey Details:\nMarch 10–19\, 2026\, 10:00 AM–6:00 PM\, Austin Convention Center\, 500 East Cesar Chavez Street\, Austin\, TX 78701\, USA. \nOur world-class exhibitions highlight the integrations and overlaps within these vibrant industries\, connecting you with some of the most innovative companies globally. \nIndustries & Audience: Video Games\, Multimedia Technologies\, Sound & Image Technologies. \nVenue & Location\nLocated at the Austin Convention Center\, 500 East Cesar Chavez Street\, Austin\, TX 78701\, USA\, this venue is well-equipped to host the influx of attendees and exhibitors. With ample logistics support for move-in and dock access\, planning your display becomes seamless. \nAustin TX: Our Services\nAt Snap Exhibitions\, we DESIGN\, PRODUCE\, INSTALL & DISMANTLE turnkey booth rentals in Austin TX. Our full-spectrum services encompass concept/design\, modular frame setups\, branded SEG graphics\, reception/storage elements\, and TV mounting. We cater to your exhibition needs to ensure a standout presence. \nCustom Booth Models\nExplore our popular booth footprints that are optimized for engaging audiences in your target sectors: \n\n10×10: Ideal for small engagements\, offers a cozy yet effective space for interaction.\n10×20: Balances space and presence\, recommended for interactive displays.\n20×20: Perfect for larger brands aiming for maximum visibility.\n\nEach model is designed with flexibility and functionality in mind\, ensuring that your exhibit meets the goals of your targeted sector. For more options\, visit our Snap Exhibitions Custom Booth Models. \nFAQ\nQ: What is SXSW – SOUTH BY SOUTHWEST 2026 booth rental?A: SXSW – SOUTH BY SOUTHWEST 2026 booth rental provides exhibitors the opportunity to showcase their products and services at a premier event. \nQ: When does the event take place?A: The event is scheduled for March 10–19\, 2026\, from 10:00 AM–6:00 PM. \nQ: What booth sizes do you recommend for the entertainment sector?A: We recommend 10×20 or 20×20 booth sizes for the entertainment sector to create an impactful display. \nQ: Why is an aluminum booth better than wood?A: Aluminum booths are lighter\, more durable\, and customizable compared to traditional wood booths\, making them easier to transport and set up. \nQ: What are the logistics at the Austin Convention Center?A: The Austin Convention Center provides ample docking access and support for event setup\, making it easy for exhibitors to manage their schedules. \nQ: How can Snap Exhibitions help make everything perfect for my booth?A: We offer complete full-service exhibit support\, ensuring that every detail of your booth is handled professionally. \nFinal Thoughts: If you’re looking for SXSW – SOUTH BY SOUTHWEST 2026 booth rental\, we have the ideal solutions to elevate your exhibition experience. Contact our team today for personalized assistance!
URL:https://weftec2026.com/event/sxsw-south-by-southwest-2026/
CATEGORIES:Broadcasting,Multimedia Technologies,Music,Sound & Image Technologies,Television & Entertainment,Video Games - Interactive Entertainment
END:VEVENT
BEGIN:VEVENT
DTSTART;TZID=UTC:20260327T090000
DTEND;TZID=UTC:20260329T235959
DTSTAMP:20260421T173409
CREATED:20251010T093755Z
LAST-MODIFIED:20251010T093755Z
UID:25551-1774602000-1774828799@weftec2026.com
SUMMARY:WONDERCON 2026
DESCRIPTION:WONDERCON 2026 booth rental — Impactful Exhibitor Guide & Custom Booth Options\nAbout WONDERCON 2026\nVenue & Location\nAnaheim CA: Our Services\nCustom Booth Models\nFAQ\nWONDERCON 2026: Unleash Your Brand Potential\nJoin us for WONDERCON 2026 booth rental as we welcome over 900 exhibitors to the Anaheim Convention Center. This event is a vibrant hub for books\, video games\, toys\, and all things related to the entertainment industry. \nExhibitors showcase comics\, original art\, toys\, and merchandise\, offering a unique opportunity to connect with fans and professionals. Make the most of this gathering by optimizing your booth presence. \n\nKey Details: Mar 25–27\, 9:00 AM–5:00 PM\nLocation: Anaheim Convention Center\nAddress: 800 W. Katella Ave.\, Anaheim\, CA 92802\, USA\nCountry: United States\n\nIndustries & Audience: Toys & Games\, Video Games – Interactive Entertainment\, Books\, Broadcasting\, Television & Entertainment. \nVenue & Location\nThe Anaheim Convention Center is a premier destination for events\, hosting numerous exhibitions throughout the year. This venue allows for seamless logistics with various move-in windows and supportive dock access. For inquiries\, please reach out to the venue directly. \nAnaheim CA: Our Services\nIn Anaheim\, CA\, we DESIGN\, PRODUCE\, INSTALL & DISMANTLE turnkey booth rentals. Our services encompass everything from concept design to modular frames\, branded SEG graphics\, reception/storage setups\, and TV mounts\, all seamlessly executed on-site. \nCustom Booth Models\nWe offer a variety of booth sizes tailored to your needs\, including: \n\n10×10: Ideal for solo exhibitors looking to make a bold statement without overwhelming the space.\n10×20: Perfect for businesses wanting more exposure\, allowing room for intricate displays and branding.\n20×20: Best for larger organizations aiming to captivate attendees with expansive setups.\n\nExplore our Snap Exhibitions Custom Booth Models for design inspiration. We also provide full-service exhibit support. To start your project today\, contact our team. \nFAQ\n\nWhat can I expect from WONDERCON 2026 booth rental?Expect an engaging platform for showcasing your brand to a diverse audience\, maximizing interaction and sales opportunities!\nWhen is WONDERCON 2026?The event is set for Mar 25–27\, running daily from 9:00 AM to 5:00 PM.\nWhat are the recommended booth sizes for the Toys & Games sector?For this sector\, we recommend 10×10 or 10×20 sizes for optimal engagement without clutter.\nWhy is an aluminum booth better than wood?Aluminum offers durability\, reduces weight for easier transport\, and allows for innovative designs.\nWhat unique attractions does Anaheim\, CA have for visitors attending WONDERCON?Anaheim boasts iconic attractions such as Disneyland and a vibrant dining scene perfect for leisure after the event.\nHow can SNAP EXHIBITIONS help ensure everything is perfect about our booth?With our turnkey services\, we handle end-to-end logistics\, making sure every detail aligns with your vision.\n\nWONDERCON 2026 booth rental is your gateway to success and visibility. For personalized support and to elevate your exhibitor experience\, contact our team now!
URL:https://weftec2026.com/event/wondercon-2026/
CATEGORIES:Books,Broadcasting,Television & Entertainment,Toys & Games,Video Games - Interactive Entertainment
END:VEVENT
END:VCALENDAR