BEGIN:VCALENDAR
VERSION:2.0
PRODID:-//WEFTEC 2026 New Orleans — Local Booth Builder &amp; Rentals - ECPv6.15.13.1//NONSGML v1.0//EN
CALSCALE:GREGORIAN
METHOD:PUBLISH
X-ORIGINAL-URL:https://weftec2026.com
X-WR-CALDESC:Events for WEFTEC 2026 New Orleans — Local Booth Builder &amp; Rentals
REFRESH-INTERVAL;VALUE=DURATION:PT1H
X-Robots-Tag:noindex
X-PUBLISHED-TTL:PT1H
BEGIN:VTIMEZONE
TZID:UTC
BEGIN:STANDARD
TZOFFSETFROM:+0000
TZOFFSETTO:+0000
TZNAME:UTC
DTSTART:20240101T000000
END:STANDARD
END:VTIMEZONE
BEGIN:VEVENT
DTSTART;TZID=UTC:20250917T090000
DTEND;TZID=UTC:20250920T235959
DTSTAMP:20260419T120654
CREATED:20251010T093257Z
LAST-MODIFIED:20251010T093257Z
UID:25539-1758099600-1758412799@weftec2026.com
SUMMARY:AIA CUSTOM RESIDENTIAL ARCHITECTS NETWORK 2025
DESCRIPTION:Alexandria booth rental for AIA CUSTOM RESIDENTIAL ARCHITECTS NETWORK 2025 — Ultimate Exhibitor Guide\nAbout AIA CUSTOM RESIDENTIAL ARCHITECTS NETWORK 2025\nVenue & Location\nAlexandria VA: Our Services\nCustom Booth Models\nFAQ\nAbout AIA CUSTOM RESIDENTIAL ARCHITECTS NETWORK 2025\nThe AIA CUSTOM RESIDENTIAL ARCHITECTS NETWORK 2025 in Alexandria\, VA\, is an essential event for architects and industry professionals in sectors such as Architecture\, Decoration\, Home & Office Design\, Furniture\, Lighting\, and Building & Construction. This vibrant meeting space allows practitioners to share valuable knowledge\, insights\, experiences\, and resources. Attending this event will enhance your understanding and skill set in the custom residential architecture market. \nKey Details:Dates: Sep 12–14\, 9:00 AM–5:00 PMLocation: Alexandria\, VAAddress: USALearn more: AIA Custom Residential Architects Network \nIndustries & Audience: Architecture\, Decoration\, Home & Office Design\, Furniture\, Lighting\, Building & Construction \nVenue & Location\nThe event will be held at Alexandria\, VA\, located in the United States. Convenient logistics ensure easy access for all exhibitors and attendees\, making your experience seamless. \nAlexandria VA: Our Services\nWe DESIGN\, PRODUCE\, INSTALL & DISMANTLE turnkey booth rentals in Alexandria VA. Our services include concept and design\, modular frames\, branded SEG graphics\, reception/storage areas\, and TV mounts\, ensuring you have everything you need for a successful exhibition. \nCustom Booth Models\nOur range of popular booth sizes\, such as 10×10\, 10×20\, and 20×20\, provides perfect options for attendees in the listed sectors. Consider checking out our Snap Exhibitions Custom Booth Models for inspiration to create an unforgettable presence at the AIA CUSTOM RESIDENTIAL ARCHITECTS NETWORK. \nWe are dedicated to offering full-service exhibit support to ensure your exhibit stands out. \nIf you’d like assistance or have inquiries about your booth\, feel free to contact our team. We’re here to help you make the most out of your exhibition experience. \nFAQ\n1. What are the booth rental options for the AIA CUSTOM RESIDENTIAL ARCHITECTS NETWORK 2025?We offer a variety of booth sizes including 10×10\, 10×20\, and 20×20\, suitable for your specific needs. \n2. When is the AIA CUSTOM RESIDENTIAL ARCHITECTS NETWORK 2025?The event will take place from Sep 12–14\, 9:00 AM to 5:00 PM each day. \n3. Why is an aluminum booth better than a wood booth?Aluminum booths are lighter\, more durable\, and often provide a more modern aesthetic compared to wood booths\, making setup easier. \n4. What services does Alexandria provide during events?Alexandria offers convenient access\, excellent facilities\, and a supportive community for exhibitors and visitors alike. \n5. What can I expect at the AIA CUSTOM RESIDENTIAL ARCHITECTS NETWORK?Expect to gain valuable insights\, connect with fellow professionals\, and explore impactful designs and resources relevant to the industry. \n6. How can SNAP EXHIBITIONS help make everything perfect about their booth?We provide customized solutions tailored to your needs—from design to installation—to ensure your booth makes a significant impact during the event. \n7. What is the benefit of attending the AIA CUSTOM RESIDENTIAL ARCHITECTS NETWORK?Attendees gain the opportunity to network\, share resources\, and learn from thought leaders in the custom residential architecture sector\, enhancing their professional development. \nIn conclusion\, if you are looking for Alexandria booth rental for AIA CUSTOM RESIDENTIAL ARCHITECTS NETWORK 2025\, we’re here to provide you with the ultimate turnkey booth rental solutions. Contact us today!
URL:https://weftec2026.com/event/aia-custom-residential-architects-network-2025/
CATEGORIES:Architecture,Building & Construction,Decoration,Furniture,Home & Office Design,Lighting
END:VEVENT
END:VCALENDAR