BEGIN:VCALENDAR
VERSION:2.0
PRODID:-//WEFTEC 2026 New Orleans — Local Booth Builder &amp; Rentals - ECPv6.15.13.1//NONSGML v1.0//EN
CALSCALE:GREGORIAN
METHOD:PUBLISH
X-WR-CALNAME:WEFTEC 2026 New Orleans — Local Booth Builder &amp; Rentals
X-ORIGINAL-URL:https://weftec2026.com
X-WR-CALDESC:Events for WEFTEC 2026 New Orleans — Local Booth Builder &amp; Rentals
REFRESH-INTERVAL;VALUE=DURATION:PT1H
X-Robots-Tag:noindex
X-PUBLISHED-TTL:PT1H
BEGIN:VTIMEZONE
TZID:UTC
BEGIN:STANDARD
TZOFFSETFROM:+0000
TZOFFSETTO:+0000
TZNAME:UTC
DTSTART:20250101T000000
END:STANDARD
END:VTIMEZONE
BEGIN:VEVENT
DTSTART;TZID=UTC:20260203T090000
DTEND;TZID=UTC:20260205T235959
DTSTAMP:20260422T013817
CREATED:20251010T093619Z
LAST-MODIFIED:20251010T093619Z
UID:25547-1770109200-1770335999@weftec2026.com
SUMMARY:MD&M WEST 2026
DESCRIPTION:MD&M WEST 2026 booth rental — Reliable Exhibitor Guide & Custom Booth Options\nAbout MD&M WEST 2026\nVenue & Location\nAnaheim CA: Our Services\nCustom Booth Models\nFAQ\nMD&M WEST 2026 – About the Show\nMD&M WEST 2026 booth rental provides everything you need to stand out at this premier medical design and manufacturing exhibition. This event attracts professionals from various sectors including Equipments & Technologies for Medical and Surgery\, Laboratory Equipment & Technologies\, Health Professionals\, Real Time Systems & Embedded Systems\, and Rapid Prototyping & Additive Manufacturing. Exhibitors will benefit from gaining insights\, enhancing product quality\, and improving their time-to-market strategies. \nKey Details:Dates: Sep 12–14\, 9:00 AM–5:00 PMLocation: Anaheim Convention CenterAddress: 800 W. Katella Ave. Anaheim\, CA 92802\, USA \nVenue & Location\nThe MD&M WEST 2026 will be held at the Anaheim Convention Center\, located at 800 W. Katella Ave.\, Anaheim\, CA\, USA. This venue provides ample logistics support\, including generous move-in windows and easy dock access for exhibitors. For any inquiries\, feel free to contact the venue directly. \nAnaheim CA: Our Services\nIn Anaheim CA\, we DESIGN\, PRODUCE\, INSTALL & DISMANTLE turnkey booth rentals. Our comprehensive services include concept and design\, modular frames\, branded SEG graphics\, reception and storage spaces\, TV mounts\, and on-site installation and dismantle service. \nCustom Booth Models\nDiscover our range of booth sizes that cater to various exhibition needs:\n– **10×10 booths** are ideal for smaller displays and enhance engagement.\n– **10×20 booths** provide extra space for product demonstration and brand storytelling.\n– **20×20 booths** are designed for companies looking to make a significant impact with spacious layouts and interactive zones. \nExplore our Snap Exhibitions Custom Booth Models to find the perfect fit for exhibiting at MD&M WEST 2026. Benefit from our full-service exhibit support to enhance your presentation. \nFor more information on how we can help with your exhibit\, contact our team today! \nFAQ\n\nWhat does MD&M WEST 2026 booth rental offer?   Booth rental provides comprehensive support and designs to maximize your exhibition presence.\nWhat are the event hours at MD&M WEST 2026? The event runs from September 12–14\, from 9:00 AM to 5:00 PM.\nWhat booth sizes are recommended for the Equipments & Technologies sectors?Depending on your needs\, we recommend 10×10 or 10×20 sizes for optimal visibility.\nWhy is an aluminum booth better than wood? Aluminum booths are lightweight\, durable\, and provide modern aesthetics and structural integrity.\nWhat can I expect from AI expertise in Anaheim? Our city hosts various industry events that showcase advancements in design and manufacturing technologies.\nHow does MD&M WEST 2026 benefit health professionals? The event allows health professionals to network\, learn about new technologies\, and discover innovative solutions.\nHow can SNAP EXHIBITIONS help make my booth perfect? We offer tailored booth rentals\, support staff\, and all essentials to ensure your success at the expo. Start your journey with us today.\n\nMD&M WEST 2026 booth rental is your reliable partner for a seamless exhibition experience. Contact our team to elevate your booth at this essential event!
URL:https://weftec2026.com/event/mdm-west-2026/
CATEGORIES:Equipments & Technologies for Medical and Surgery,Health Professionals,Laboratory Equipment & Technologies,Rapid Prototyping & Additive Manufacturing,Real Time Systems & Embedded Systems
END:VEVENT
END:VCALENDAR