BEGIN:VCALENDAR
VERSION:2.0
PRODID:-//WEFTEC 2026 New Orleans — Local Booth Builder &amp; Rentals - ECPv6.15.13.1//NONSGML v1.0//EN
CALSCALE:GREGORIAN
METHOD:PUBLISH
X-ORIGINAL-URL:https://weftec2026.com
X-WR-CALDESC:Events for WEFTEC 2026 New Orleans — Local Booth Builder &amp; Rentals
REFRESH-INTERVAL;VALUE=DURATION:PT1H
X-Robots-Tag:noindex
X-PUBLISHED-TTL:PT1H
BEGIN:VTIMEZONE
TZID:UTC
BEGIN:STANDARD
TZOFFSETFROM:+0000
TZOFFSETTO:+0000
TZNAME:UTC
DTSTART:20240101T000000
END:STANDARD
END:VTIMEZONE
BEGIN:VEVENT
DTSTART;TZID=UTC:20251203T090000
DTEND;TZID=UTC:20251207T235959
DTSTAMP:20260421T140312
CREATED:20251010T094440Z
LAST-MODIFIED:20251010T094440Z
UID:25566-1764752400-1765151999@weftec2026.com
SUMMARY:AQUA ART MIAMI 2025
DESCRIPTION:AQUA ART MIAMI 2025 booth rental — Premium Exhibitor Guide & Custom Booth Options\nAbout AQUA ART MIAMI 2025\nAQUA ART MIAMI 2025 booth rental is essential for any exhibitor looking to showcase their work at this premier contemporary and modern art fair in Miami. From September 12–14\, immerse yourself in an environment where artists and exhibitors gather to display unique artworks\, ranging from paintings and sculptures to intricate fabric designs and antiques. This event attracts a vibrant audience eager to explore and appreciate fine arts\, and becoming an exhibitor presents an invaluable opportunity to elevate your art to potential buyers. \n\nKey Details: Sep 12–14\, 9:00 AM–5:00 PM\, Aqua Hotel\, Miami\, 1530 Collins Ave\, Miami Beach\, FL 33139\, USA.\n\nIndustries & Audience: Art and Antiques\, Photography\, Decoration\, Home & Office Design\, Furniture\, Lighting. Being part of this event allows exhibitors to engage directly with art enthusiasts and collectors. \nVenue & Location\nThe AQUA ART MIAMI 2025 will be held at the Aqua Hotel located at 1530 Collins Ave\, Miami Beach\, FL 33139\, USA. This venue is perfectly situated for both exhibitors and visitors\, offering excellent logistics for move-in and dock access. \nFor inquiries\, reach out via phone. \nMiami FL: Our Services\nAt Snap Exhibitions\, we DESIGN\, PRODUCE\, INSTALL & DISMANTLE turnkey booth rentals in Miami FL. Our services encompass concept and design\, modular frames\, branded SEG graphics\, and on-site installation and dismantling. We meticulously plan so that your exhibit shines and meets your precise specifications. \nCustom Booth Models\nWe offer a variety of popular footprints for your booth rental. \n\n10×10: Ideal for those looking to make a compact yet significant impact.\n10×20: Provides ample space for more elaborate displays and enhances visibility.\n20×20: Perfect for large exhibits or brands looking to stand out prominently.\n\nChoose to work with us at Snap Exhibitions for Snap Exhibitions Custom Booth Models or explore our full-service exhibit support to make your participation at AQUA ART MIAMI 2025 memorable. To get started\, contact our team for a bespoke solution tailored to your needs. \nFAQ\nQ: What is the AQUA ART MIAMI 2025 booth rental process?A: The AQUA ART MIAMI 2025 booth rental process is streamlined through Snap Exhibitions\, ensuring an easy selection of booth size and custom design. \nQ: What are the event hours for AQUA ART MIAMI 2025?A: The event runs from September 12 to 14\, 2025\, from 9:00 AM to 5:00 PM. \nQ: What booth sizes are recommended for the art sector?A: For art and antiques\, we recommend a 10×20 or 20×20 footprint to adequately display multiple pieces while allowing room for visitors. \nQ: Why is an aluminum booth better than wood?A: Aluminum booths are lighter\, more durable\, and offer a modern aesthetic\, making them easier to transport and set up compared to traditional wood structures. \nQ: What services does Snap Exhibitions offer in Miami?A: Snap Exhibitions provides comprehensive services\, including design\, installation\, and support for all your exhibition needs in Miami. \nQ: How can Snap Exhibitions help ensure everything is perfect for my booth?A: We handle every aspect of your booth\, from initial design to final dismantling\, allowing you to focus on connecting with your audience. \nIn conclusion\, AQUA ART MIAMI 2025 booth rental is a crucial step for making your presence felt at this prominent art fair. Let us at Snap Exhibitions help you create an unforgettable exhibit\, so contact us today!
URL:https://weftec2026.com/event/aqua-art-miami-2025/
CATEGORIES:Art and Antiques,Decoration,Furniture,Home & Office Design,Lighting,Photography
END:VEVENT
END:VCALENDAR