BEGIN:VCALENDAR
VERSION:2.0
PRODID:-//WEFTEC 2026 New Orleans — Local Booth Builder &amp; Rentals - ECPv6.15.13.1//NONSGML v1.0//EN
CALSCALE:GREGORIAN
METHOD:PUBLISH
X-ORIGINAL-URL:https://weftec2026.com
X-WR-CALDESC:Events for WEFTEC 2026 New Orleans — Local Booth Builder &amp; Rentals
REFRESH-INTERVAL;VALUE=DURATION:PT1H
X-Robots-Tag:noindex
X-PUBLISHED-TTL:PT1H
BEGIN:VTIMEZONE
TZID:UTC
BEGIN:STANDARD
TZOFFSETFROM:+0000
TZOFFSETTO:+0000
TZNAME:UTC
DTSTART:20240101T000000
END:STANDARD
END:VTIMEZONE
BEGIN:VEVENT
DTSTART;TZID=UTC:20251002T090000
DTEND;TZID=UTC:20251005T235959
DTSTAMP:20260420T105453
CREATED:20251010T094330Z
LAST-MODIFIED:20251010T094330Z
UID:25563-1759395600-1759708799@weftec2026.com
SUMMARY:UNITED STATES POWERBOAT SHOW 2025
DESCRIPTION:UNITED STATES POWERBOAT SHOW 2025 Booth Rental — Essential Guide\nAbout UNITED STATES POWERBOAT SHOW 2025\nUNITED STATES POWERBOAT SHOW 2025 is the premier trade show for the boating industry\, showcasing an extensive range of power boats\, luxury bareboats\, yachts\, and cutting-edge marine equipment. Exhibitors and visitors alike benefit from networking opportunities\, skill-building sessions\, and industry insights during this three-day event. The show takes place from May 30 to June 1\, 2025\, from 10:00 AM to 6:00 PM daily. \nKey Details: \n\nDate: May 30–June 1\, 2025\nLocation: Annapolis City Dock\, Dock St\, Annapolis\, MD 21401\, United States\nWebsite: Visit the Event Page\n\nThis show covers diverse industries including Boating\, Sailing & Water Sports\, Luxury Industry\, Sports\, Hunting & Fishing. \nVenue & Location\nThe event will be held at Annapolis City Dock\, located at Dock St\, Annapolis\, MD 21401\, USA. Access to the venue is convenient\, allowing for efficient move-in and repositioning of exhibit materials. \nAnnapolis MD: Our Services\nWe DESIGN\, PRODUCE\, INSTALL & DISMANTLE turnkey booth rentals in Annapolis MD. Our services include concept design\, modular framing\, branded SEG graphics\, reception area setups\, and on-site installation and dismantle services. \nCustom Booth Models\nExplore our popular booth footprints suitable for various industry sectors: \n\n10×10 Booths: Ideal for startups and newcomers showcasing innovative products.\n10×20 Booths: Perfect for brands looking to make a larger statement without overwhelming space.\n20×20 Booths: Designed for companies showcasing a full range of offerings\, providing ample room for engagement.\n\nCheck out our Snap Exhibitions Custom Booth Models for tailored solutions. For comprehensive support\, our full-service exhibit support is also available to ensure your success. \nFAQ\nQ1: What are the event hours for the UNITED STATES POWERBOAT SHOW 2025?A: The show runs from May 30 to June 1\, 2025\, from 10:00 AM to 6:00 PM daily. \nQ2: How can I arrange a UNITED STATES POWERBOAT SHOW 2025 booth rental?A: Simply contact our team for hassle-free booth rental options. \nQ3: What booth sizes do you recommend for Boating and Luxury Industry exhibitors?A: For these sectors\, we recommend either 10×20 or 20×20 footprints to adequately showcase products and engage visitors. \nQ4: Why is an aluminum booth better than wood for trade shows?A: Aluminum is lighter\, more durable\, and allows for complex designs while also enhancing the overall aesthetic appeal. \nQ5: What unique features are available for booths at the UNITED STATES POWERBOAT SHOW?A: Our booths can incorporate innovative displays\, interactive technology\, and comfortable lounges to enhance visitor experience. \nQ6: What is included in a turnkey booth rental solution?A: Our solution includes design\, production\, installation\, and dismantling services\, ensuring a smooth experience for exhibitors. \nQ7: How can SNAP EXHIBITIONS help make my booth perfect at the UNITED STATES POWERBOAT SHOW 2025?A: We provide tailored booth design\, effective logistics\, and on-site assistance to ensure your exhibition is seamless and impactful. \nIf you are looking for a top-notch UNITED STATES POWERBOAT SHOW 2025 booth rental\, contact our team today!
URL:https://weftec2026.com/event/united-states-powerboat-show-2025/
CATEGORIES:Boating,Hunting & Fishing,Luxury Industry,Sailing & Water Sports,Sports
END:VEVENT
BEGIN:VEVENT
DTSTART;TZID=UTC:20251004T090000
DTEND;TZID=UTC:20251005T235959
DTSTAMP:20260420T105453
CREATED:20251010T094947Z
LAST-MODIFIED:20251010T094947Z
UID:25577-1759568400-1759708799@weftec2026.com
SUMMARY:BATESVILLE GUN SHOW 2025
DESCRIPTION:Batesville booth rental for BATESVILLE GUN SHOW 2025 — Ultimate Exhibitor Guide\nAbout BATESVILLE GUN SHOW 2025\nVenue & Location\nBatesville MS: Our Services\nCustom Booth Models\nFAQ\nAbout BATESVILLE GUN SHOW 2025\nBatesville booth rental for BATESVILLE GUN SHOW 2025 is an excellent opportunity for exhibitors looking to showcase their products to a dedicated audience. This event features various firearms\, from combat knives and swords to hunting gears and self-defense tools at discount prices. Exhibitors can engage with enthusiasts in the industry\, providing a unique platform to highlight their offerings. \nKey Details:  April 3-4\, 2025\, 9:00 AM – 5:00 PM Batesville Civic Center\, 290 Civic Center Dr\, Batesville\, MS\, United States. Learn more about the event here. \nThe event attracts a wide range of participants in sectors such as Guns & Knives – Collectibles\, Defense – Armament\, Hunting & Fishing\, Collectors – Hobby. \nVenue & Location\nThe Batesville Civic Center is centrally located at 290 Civic Center Dr\, Batesville\, MS\, United States. The venue offers ideal logistics for exhibitors\, including general move-in access to facilitate booth setups. Ensure your booth is ready to shine and connect with visitors! \nBatesville MS: Our Services\nIn Batesville\, we DESIGN\, PRODUCE\, INSTALL & DISMANTLE turnkey booth rentals. Our comprehensive services include conceptual design\, modular frames\, branded SEG graphics\, reception areas\, storage solutions\, and TV mounts. We are committed to making your exhibit impactful and highly functional. \nCustom Booth Models\nOur popular booth models include various footprints like 10×10\, 10×20\, and 20×20\, designed to suit the diverse needs of the collectibles and defense sectors. Each model is customizable to represent your brand effectively. For more details\, check out our Snap Exhibitions Custom Booth Models for inspiration.  \nWe also offer full-service exhibit support to ensure every detail is perfect for your participation. \nFAQ\nQ: What is Batesville booth rental for BATESVILLE GUN SHOW 2025? \nA: It is an opportunity for exhibitors to showcase firearms and related products during the Batesville Gun Show. \nQ: What are the event hours and dates? \nA: The event runs from April 3-4\, 2025\, with hours from 9:00 AM to 5:00 PM each day. \nQ: What are the recommended booth sizes for the collectibles sectors? \nA: Common booth sizes for these sectors include 10×10 or 10×20 for optimal engagement. \nQ: Why is an aluminum booth better than wood? \nA: Aluminum booths are lighter\, more durable\, and offer a sleek\, modern appearance compared to traditional wood constructions. \nQ: What services can we expect in Batesville? \nA: You can expect high-quality booth rentals\, excellent logistics\, and support from local services\, enhancing your overall experience. \nQ: How can Snap Exhibitions ensure everything is perfect for our booth? \nA: We provide a full range of turnkey services\, from design to dismantling\, making your exhibition experience seamless and efficient. \nDon’t miss your chance to secure the best Batesville booth rental for BATESVILLE GUN SHOW 2025. Contact our team today to learn more!
URL:https://weftec2026.com/event/batesville-gun-show-2025/
CATEGORIES:Collectors - Hobby,Defense - Armament,Guns & Knives - Collectibles,Hunting & Fishing
END:VEVENT
END:VCALENDAR