BEGIN:VCALENDAR
VERSION:2.0
PRODID:-//WEFTEC 2026 New Orleans — Local Booth Builder &amp; Rentals - ECPv6.15.13.1//NONSGML v1.0//EN
CALSCALE:GREGORIAN
METHOD:PUBLISH
X-WR-CALNAME:WEFTEC 2026 New Orleans — Local Booth Builder &amp; Rentals
X-ORIGINAL-URL:https://weftec2026.com
X-WR-CALDESC:Events for WEFTEC 2026 New Orleans — Local Booth Builder &amp; Rentals
REFRESH-INTERVAL;VALUE=DURATION:PT1H
X-Robots-Tag:noindex
X-PUBLISHED-TTL:PT1H
BEGIN:VTIMEZONE
TZID:UTC
BEGIN:STANDARD
TZOFFSETFROM:+0000
TZOFFSETTO:+0000
TZNAME:UTC
DTSTART:20250101T000000
END:STANDARD
END:VTIMEZONE
BEGIN:VEVENT
DTSTART;TZID=UTC:20260203T090000
DTEND;TZID=UTC:20260205T235959
DTSTAMP:20260422T061815
CREATED:20251010T093553Z
LAST-MODIFIED:20251010T093553Z
UID:25546-1770109200-1770335999@weftec2026.com
SUMMARY:ATX WEST 2026
DESCRIPTION:ATX WEST 2026 booth rental — Ultimate Exhibitor Guide & Custom Booth Options\nTable of Contents\n\nAbout ATX WEST 2026\nVenue & Location\nAnaheim CA: Our Services\nCustom Booth Models\nFAQ\n\nAbout ATX WEST 2026\nATX WEST 2026 booth rental options are available now! This event is a must-attend for those in the Industrial Controllers\, CAD/CAM – Design – Modelling\, Robotics\, Applied Computer & Industrial Engineering\, Metal Working Industries\, Rapid Prototyping & Additive Manufacturing\, Knowledge Based Systems & Artificial Intelligence\, Sciences for Engineers – Research & Development sectors\, bringing together leading brands to connect and showcase cutting-edge industrial machinery\, AI\, robotics\, and maintenance advancements. \nAttendees will gain insight into premier automation solutions for their companies from Feb 21–23\, 9:00 AM–5:00 PM at the Anaheim Convention Center\, located at 800 W. Katella Ave\, Anaheim\, CA 92802\, USA. \nKey Details\n\nDates: Feb 21-23\, 9:00 AM–5:00 PM\nLocation: Anaheim Convention Center\nAddress: 800 W. Katella Ave\, Anaheim\, CA 92802\nCountry: United States\n\nVenue & Location\nThe ATX WEST 2026 will be hosted at the Anaheim Convention Center\, located at 800 W. Katella Ave\, Anaheim\, CA 92802\, United States. The venue offers excellent logistics for exhibitors\, including convenient move-in windows and dock access. \nIf you need to reach the venue\, please contact via the provided phone number. \nAnaheim CA: Our Services\nIn Anaheim\, we DESIGN\, PRODUCE\, INSTALL & DISMANTLE turnkey booth rentals. Our services include concept/design\, modular frames\, branded SEG graphics\, reception/storage setups\, TV mounts\, and on-site installation and dismantling. \nWe cater to various booth sizes\, such as 10×10\, 10×20\, and 20×20 footprints\, tailored to meet the needs of exhibitors in the industrial and technology sectors. \nCustom Booth Models\nExplore our Snap Exhibitions Custom Booth Models designed specifically for your needs\, offering robust visuals and effective visitor engagement strategies. \nFor a smoother experience\, utilize our full-service exhibit support\, ensuring everything is handled by our expert team. \nIf you’re ready to elevate your presence at ATX WEST 2026\, contact our team today! \nFAQ\nWhat are the ATX WEST 2026 booth rental options?\nWe offer a range of turnkey booth rental solutions suitable for all applicants. Whether you choose a 10×10 or a larger footprint\, we ensure your presence stands out. \nWhat are the event hours for ATX WEST 2026?\nThe event will run from Feb 21 to Feb 23\, 9:00 AM–5:00 PM. \nWhat booth sizes are recommended for the industrial sector?\nWe recommend booth sizes of 10×20 and 20×20 for optimal display of machinery and technology. \nWhy is an aluminum booth better than wood?\nAluminum offers durability\, a modern look\, and is significantly lighter than wood\, making it easier to transport and set up. \nWhat’s special about the Anaheim Convention Center?\nThe Anaheim Convention Center provides central access and ample space for exhibitors to connect with their audiences effectively. \nHow can SNAP EXHIBITIONS help make everything perfect about their booth?\nWe take care of every detail\, from design to installation\, ensuring your booth reflects your brand identity and draws visitors effectively. \nIn conclusion\, ATX WEST 2026 booth rental options are tailored for you! Don’t miss your chance to stand out at this premier event\, and contact us today for customized solutions that fit your company’s needs!
URL:https://weftec2026.com/event/atx-west-2026/
CATEGORIES:Applied Computer & Industrial Engineering,CAD/CAM - Design - Modelisation,Industrial Controllers,Knowledge Based Systems & Artificial Intelligence,Metal Working Industries,Rapid Prototyping & Additive Manufacturing,Robotics,Sciences for Engineers - Research & Development
END:VEVENT
END:VCALENDAR