BEGIN:VCALENDAR
VERSION:2.0
PRODID:-//WEFTEC 2026 New Orleans — Local Booth Builder &amp; Rentals - ECPv6.15.13.1//NONSGML v1.0//EN
CALSCALE:GREGORIAN
METHOD:PUBLISH
X-WR-CALNAME:WEFTEC 2026 New Orleans — Local Booth Builder &amp; Rentals
X-ORIGINAL-URL:https://weftec2026.com
X-WR-CALDESC:Events for WEFTEC 2026 New Orleans — Local Booth Builder &amp; Rentals
REFRESH-INTERVAL;VALUE=DURATION:PT1H
X-Robots-Tag:noindex
X-PUBLISHED-TTL:PT1H
BEGIN:VTIMEZONE
TZID:UTC
BEGIN:STANDARD
TZOFFSETFROM:+0000
TZOFFSETTO:+0000
TZNAME:UTC
DTSTART:20250101T000000
END:STANDARD
END:VTIMEZONE
BEGIN:VEVENT
DTSTART;TZID=UTC:20260309T090000
DTEND;TZID=UTC:20260312T235959
DTSTAMP:20260419T183545
CREATED:20251010T094631Z
LAST-MODIFIED:20251010T094631Z
UID:25570-1773046800-1773359999@weftec2026.com
SUMMARY:VERTICON '2026
DESCRIPTION:VERTICON ‘2026 booth rental — Exhibitor Guide & Custom Booth Options\nAbout VERTICON ‘2026\nVenue & Location\nAtlanta\, GA: Our Services\nCustom Booth Models\nFAQ\n\nVERTICON ‘2026 booth rental is essential for anyone participating in this premier event focused on the latest trends in helicopter equipment and applications. This trade show will gather suppliers\, partners\, and subcontractors from the aeronautics and space sectors\, making it an incredible opportunity for exhibitors to connect with their audience. Attendees will gain valuable insights and networking opportunities that can enhance their business capabilities. \nKey Details: \n\nDates: Mar 8–10\, 9:00 AM–5:00 PM\nLocation: Atlanta\, GA\nAddress: USA\nCountry: United States\nEvent Website\n\nIndustries & Audience: Aeronautics – Space\, Subcontracting\, Suppliers & Partners will be well represented. \n\n\nThe venue for VERTICON ‘2026 will be located in Atlanta\, GA. While exact logistics such as move-in windows and dock access are essential for any exhibitors\, exact details will be provided closer to the event. If you have any inquiries\, feel free to contact us. \n\n\nWe DESIGN\, PRODUCE\, INSTALL & DISMANTLE turnkey booth rentals in Atlanta\, GA. Our comprehensive services encompass concept/design\, modular frames\, branded SEG graphics\, reception/storage\, TV mounts\, and on-site installation and dismantling\, all tailored to your needs. \n\n\nExplore popular booth footprints that resonate with attendees in the Aeronautics and Space sectors: \n\n10×10: Perfect for solo exhibitors or small teams looking for a compact option.\n10×20: A common choice allowing more displays and interaction areas\, ideal for engaging potential customers.\n20×20: Designed for maximum impact\, providing ample space for sophisticated setups that can feature multiple product displays.\n\nFor detailed options\, visit our Snap Exhibitions Custom Booth Models page. \n\n\nFAQ\n\nWhat is included in the VERTICON ‘2026 booth rental? Our rentals include design\, installation\, dismantling\, and support services.\nWhen are the event hours for VERTICON ‘2026? The event runs from Mar 8–10\, 9:00 AM to 5:00 PM.\nWhat booth sizes do you recommend for aeronautics industries? We recommend starting with the 10×20 or 20×20 options for better exposure.\nWhy is an aluminium booth better than wood? Aluminium booths are lightweight\, durable\, and can be easily reconfigured\, making them a perfect choice for trade shows.\nWhat services does Snap Exhibitions provide in Atlanta? We offer comprehensive turnkey solutions\, including booth design and installation.\nHow can we ensure we have everything perfect about our booth? We handle everything from concept to execution; just contact our team to get started!\n\n\nFor a successful presence at the VERTICON ‘2026 booth rental\, consider reaching out to us for seamless support in designing your exhibit. Visit Snap Exhibitions today!
URL:https://weftec2026.com/event/verticon-2026/
CATEGORIES:Aeronautics - Space,Subcontracting,Suppliers & Partners
END:VEVENT
BEGIN:VEVENT
DTSTART;TZID=UTC:20260314T090000
DTEND;TZID=UTC:20260319T235959
DTSTAMP:20260419T183545
CREATED:20251010T093814Z
LAST-MODIFIED:20251010T093814Z
UID:25552-1773478800-1773964799@weftec2026.com
SUMMARY:IPC APEX EXPO 2026
DESCRIPTION:IPC APEX EXPO 2026 booth rental — Essential Guide & Custom Booth Options\nAbout IPC APEX EXPO 2026\nIPC APEX EXPO 2026 booth rental is your gateway to the world of electronics manufacturing in North America. This industry-leading event attracts professionals from **Electronic Design & Components**\, **Power electronics**\, and **Applied Computer & Industrial Engineering** sectors. Visitors and exhibitors alike benefit from an extensive trade show featuring cutting-edge technical conferences and valuable networking opportunities. \nKey Details: April 6–8\, 9:00 AM–5:00 PM\, Anaheim Convention Center\, 800 W. Katella Ave.\, Anaheim\, CA 92802\, United States. Discover more at the IPC APEX EXPO website. \nIndustries & Audience: This trade show is tailored for sectors including **Electronic Design & Components**\, **Power electronics**\, **Sciences for Engineers – R&D**\, and more. \nVenue & Location\nJoin us at the Anaheim Convention Center\, conveniently located at 800 W. Katella Ave.\, Anaheim\, CA 92802\, USA. This venue offers ample logistics and accessibility options for all exhibitors. \nAnaheim\, CA: Our Services\nWe DESIGN\, PRODUCE\, INSTALL & DISMANTLE turnkey booth rentals in Anaheim\, CA. Our services encompass concept development\, modular frame construction\, branded SEG graphics\, and on-site installation and dismantling\, ensuring a seamless exhibitor experience. \nCustom Booth Models\nExplore our Snap Exhibitions Custom Booth Models available in popular footprints like 10×10\, 10×20\, and 20×20. Each design is crafted to capture the attention of attendees in the **Electronic Design & Components** sector. We also provide full-service exhibit support to tailor-fit your booth needs. \nFor those seeking assistance in creating the perfect exhibitor setup\, please contact our team. \nFAQ\nQ: What is IPC APEX EXPO 2026 booth rental? \nA: IPC APEX EXPO 2026 booth rental provides businesses with an opportunity to showcase their products in the electronics manufacturing industry. \nQ: What are the event hours for IPC APEX EXPO 2026? \nA: The event hours are April 6–8\, 9:00 AM–5:00 PM. \nQ: What recommended booth sizes are ideal for exhibitors in the Electronics sector? \nA: Popular sizes include 10×10 for startups\, 10×20 for mid-sized companies\, and 20×20 for larger exhibitors. \nQ: Why is an aluminium booth better than wood? \nA: Aluminium booths are light\, durable\, and easy to customize\, making them more efficient for exhibitors compared to traditional wood options. \nQ: How can I find more services in Anaheim? \nA: There are numerous attractions and services available in Anaheim\, enhancing your experience while here. \nQ: How can SNAP EXHIBITIONS help make everything perfect about my booth? \nA: We specialize in providing turnkey booth rentals\, offering comprehensive support from concept to execution\, ensuring your exhibitor experience is flawless. \nIn summary\, IPC APEX EXPO 2026 booth rental is your key to success in electronics manufacturing. Don’t hesitate to reach out to us for your turnkey booth rentals and make a standout impression at your next event! For more information\, visit us at our website.
URL:https://weftec2026.com/event/ipc-apex-expo-2026/
CATEGORIES:Applied Computer & Industrial Engineering,Electronic Design & Components,Power electronics,Sciences for Engineers - Research & Development,Subcontracting,Suppliers & Partners
END:VEVENT
END:VCALENDAR