BEGIN:VCALENDAR
VERSION:2.0
PRODID:-//WEFTEC 2026 New Orleans — Local Booth Builder &amp; Rentals - ECPv6.15.13.1//NONSGML v1.0//EN
CALSCALE:GREGORIAN
METHOD:PUBLISH
X-ORIGINAL-URL:https://weftec2026.com
X-WR-CALDESC:Events for WEFTEC 2026 New Orleans — Local Booth Builder &amp; Rentals
REFRESH-INTERVAL;VALUE=DURATION:PT1H
X-Robots-Tag:noindex
X-PUBLISHED-TTL:PT1H
BEGIN:VTIMEZONE
TZID:UTC
BEGIN:STANDARD
TZOFFSETFROM:+0000
TZOFFSETTO:+0000
TZNAME:UTC
DTSTART:20240101T000000
END:STANDARD
END:VTIMEZONE
BEGIN:VEVENT
DTSTART;TZID=UTC:20251122T090000
DTEND;TZID=UTC:20251123T235959
DTSTAMP:20260421T131256
CREATED:20251010T093408Z
LAST-MODIFIED:20251010T093408Z
UID:25542-1763802000-1763942399@weftec2026.com
SUMMARY:SUPER GIGANTIC GARAGE SALES 2025
DESCRIPTION:Allentown booth rental for SUPER GIGANTIC GARAGE SALES 2025 — Ultimate Guide\nAbout SUPER GIGANTIC GARAGE SALES 2025\nAllentown booth rental for SUPER GIGANTIC GARAGE SALES 2025 is an excellent opportunity for exhibitors who want to capture the attention of their audience. This event\, taking place from Sep 12–14\, 9:00 AM–5:00 PM\, at Allentown Fairgrounds\, 302 N 17th St. Allentown PA\, 18104\, United States\, is known as Allentown’s largest indoor garage sale and flea market. Attendees can expect to browse an impressive array of second-hand household items\, sporting equipment\, clothing\, furniture\, and much more\, making it the perfect venue for diverse collectors and hobbyists. Discover more about the event here. \n\nIndustries & Audience: Collectors – Hobby\, Decoration\, Home & Office Design\, Furniture\, Lighting\, Fashion – Clothing\, Toys & Games\, Jewelry\, Do It Yourself\n\nVenue & Location\nThe Allentown Fairgrounds\, located at 302 N 17th St. Allentown PA\, 18104\, United States\, is accessible for exhibitors and attendees alike. The venue is equipped with essential logistics\, offering adequate space for move-in and dock access. For inquiries\, feel free to reach us at +1 (540) 848-0731. \nAllentown PA: Our Services\nWe DESIGN\, PRODUCE\, INSTALL & DISMANTLE turnkey booth rentals in Allentown PA. Our offerings include concept and design\, modular frames\, branded SEG graphics\, reception and storage areas\, TV mounts\, and on-site installation and dismantling. This comprehensive service saves you the hassle while ensuring quality and creativity in your showcase. \nCustom Booth Models\nWe can accommodate a range of popular footprints suited for the different sectors represented at the event\, including 10×10\, 10×20\, and 20×20 booth sizes. These sizes offer flexibility for exhibitors to customize their space according to their specific needs and the expectations of the audience in attendance. For more information about our offerings\, check out our Snap Exhibitions Custom Booth Models. \nAdditionally\, we provide full-service exhibit support for all our clients\, ensuring that every detail is accounted for so you can focus on achieving maximum engagement. \nIf you’re interested in our solutions\, please contact our team to start planning your booth rental! \nFAQ\nQ1: What is the Allentown booth rental for SUPER GIGANTIC GARAGE SALES 2025?  A1: It’s a premier opportunity for exhibitors in Allentown to showcase their products and connect with collectors and hobbyists. \nQ2: When is the event? A2: The event will take place from Sep 12–14\, 2025\, from 9:00 AM to 5:00 PM each day. \nQ3: What booth sizes do you recommend for the Collectors – Hobby sector? A3: Popular options include 10×10 for smaller setups and 10×20 for larger displays\, both of which are ideal for engaging visitors effectively. \nQ4: Why is an aluminum booth better than wood? A4: Aluminum booths are lighter\, more durable\, and provide a modern aesthetic compared to traditional wood booths\, making them easier to transport and set up. \nQ5: What can I expect from the Allentown Fairgrounds venue? A5: The venue is spacious\, accommodating various exhibitors and is conveniently located for easy access. \nQ6: How can I make my booth perfect for SUPER GIGANTIC GARAGE SALES 2025? A6: By working with SNAP EXHIBITIONS\, we ensure that your booth meets all requirements for exhibition success\, from design to dismantle. \nQ7: What is the best way to contact for booth rentals? A7: Reach out to us via our contact page for inquiries about booth rentals and services. \nIn conclusion\, Allentown booth rental for SUPER GIGANTIC GARAGE SALES 2025 is the perfect opportunity for brands seeking to maximize their exposure. Contact us to make your event unforgettable!
URL:https://weftec2026.com/event/super-gigantic-garage-sales-2025/
CATEGORIES:Collectors - Hobby,Decoration,Do It Yourself,Fashion - Clothing,Furniture,Home & Office Design,Jewelry,Lighting,Toys & Games
END:VEVENT
END:VCALENDAR