BEGIN:VCALENDAR
VERSION:2.0
PRODID:-//WEFTEC 2026 New Orleans — Local Booth Builder &amp; Rentals - ECPv6.15.13.1//NONSGML v1.0//EN
CALSCALE:GREGORIAN
METHOD:PUBLISH
X-WR-CALNAME:WEFTEC 2026 New Orleans — Local Booth Builder &amp; Rentals
X-ORIGINAL-URL:https://weftec2026.com
X-WR-CALDESC:Events for WEFTEC 2026 New Orleans — Local Booth Builder &amp; Rentals
REFRESH-INTERVAL;VALUE=DURATION:PT1H
X-Robots-Tag:noindex
X-PUBLISHED-TTL:PT1H
BEGIN:VTIMEZONE
TZID:UTC
BEGIN:STANDARD
TZOFFSETFROM:+0000
TZOFFSETTO:+0000
TZNAME:UTC
DTSTART:20240101T000000
END:STANDARD
END:VTIMEZONE
BEGIN:VEVENT
DTSTART;TZID=UTC:20251203T090000
DTEND;TZID=UTC:20251207T235959
DTSTAMP:20260422T001720
CREATED:20251010T094440Z
LAST-MODIFIED:20251010T094440Z
UID:25566-1764752400-1765151999@weftec2026.com
SUMMARY:AQUA ART MIAMI 2025
DESCRIPTION:AQUA ART MIAMI 2025 booth rental — Premium Exhibitor Guide & Custom Booth Options\nAbout AQUA ART MIAMI 2025\nAQUA ART MIAMI 2025 booth rental is essential for any exhibitor looking to showcase their work at this premier contemporary and modern art fair in Miami. From September 12–14\, immerse yourself in an environment where artists and exhibitors gather to display unique artworks\, ranging from paintings and sculptures to intricate fabric designs and antiques. This event attracts a vibrant audience eager to explore and appreciate fine arts\, and becoming an exhibitor presents an invaluable opportunity to elevate your art to potential buyers. \n\nKey Details: Sep 12–14\, 9:00 AM–5:00 PM\, Aqua Hotel\, Miami\, 1530 Collins Ave\, Miami Beach\, FL 33139\, USA.\n\nIndustries & Audience: Art and Antiques\, Photography\, Decoration\, Home & Office Design\, Furniture\, Lighting. Being part of this event allows exhibitors to engage directly with art enthusiasts and collectors. \nVenue & Location\nThe AQUA ART MIAMI 2025 will be held at the Aqua Hotel located at 1530 Collins Ave\, Miami Beach\, FL 33139\, USA. This venue is perfectly situated for both exhibitors and visitors\, offering excellent logistics for move-in and dock access. \nFor inquiries\, reach out via phone. \nMiami FL: Our Services\nAt Snap Exhibitions\, we DESIGN\, PRODUCE\, INSTALL & DISMANTLE turnkey booth rentals in Miami FL. Our services encompass concept and design\, modular frames\, branded SEG graphics\, and on-site installation and dismantling. We meticulously plan so that your exhibit shines and meets your precise specifications. \nCustom Booth Models\nWe offer a variety of popular footprints for your booth rental. \n\n10×10: Ideal for those looking to make a compact yet significant impact.\n10×20: Provides ample space for more elaborate displays and enhances visibility.\n20×20: Perfect for large exhibits or brands looking to stand out prominently.\n\nChoose to work with us at Snap Exhibitions for Snap Exhibitions Custom Booth Models or explore our full-service exhibit support to make your participation at AQUA ART MIAMI 2025 memorable. To get started\, contact our team for a bespoke solution tailored to your needs. \nFAQ\nQ: What is the AQUA ART MIAMI 2025 booth rental process?A: The AQUA ART MIAMI 2025 booth rental process is streamlined through Snap Exhibitions\, ensuring an easy selection of booth size and custom design. \nQ: What are the event hours for AQUA ART MIAMI 2025?A: The event runs from September 12 to 14\, 2025\, from 9:00 AM to 5:00 PM. \nQ: What booth sizes are recommended for the art sector?A: For art and antiques\, we recommend a 10×20 or 20×20 footprint to adequately display multiple pieces while allowing room for visitors. \nQ: Why is an aluminum booth better than wood?A: Aluminum booths are lighter\, more durable\, and offer a modern aesthetic\, making them easier to transport and set up compared to traditional wood structures. \nQ: What services does Snap Exhibitions offer in Miami?A: Snap Exhibitions provides comprehensive services\, including design\, installation\, and support for all your exhibition needs in Miami. \nQ: How can Snap Exhibitions help ensure everything is perfect for my booth?A: We handle every aspect of your booth\, from initial design to final dismantling\, allowing you to focus on connecting with your audience. \nIn conclusion\, AQUA ART MIAMI 2025 booth rental is a crucial step for making your presence felt at this prominent art fair. Let us at Snap Exhibitions help you create an unforgettable exhibit\, so contact us today!
URL:https://weftec2026.com/event/aqua-art-miami-2025/
CATEGORIES:Art and Antiques,Decoration,Furniture,Home & Office Design,Lighting,Photography
END:VEVENT
BEGIN:VEVENT
DTSTART;TZID=UTC:20251212T090000
DTEND;TZID=UTC:20251215T235959
DTSTAMP:20260422T001720
CREATED:20251010T094818Z
LAST-MODIFIED:20251010T094818Z
UID:25574-1765530000-1765843199@weftec2026.com
SUMMARY:APA National Expo
DESCRIPTION:APA National Expo booth rental — Reliable options for exhibitors\nAbout APA National Expo\nAPA National Expo booth rental offers a unique opportunity for exhibitors to connect with a diverse audience. This premier event\, held at the Austin Convention Center\, draws in professionals from various sectors. With engaging workshops\, networking opportunities\, and keynote sessions\, exhibitors and visitors alike will gain invaluable insights into the latest trends and practices in their fields.  \nKey Details:\n**Dates:**  Aug 10–12\, 9:00 AM–5:00 PM\n**Location:** Austin Convention Center\n**Address:** 500 East Cesar Chavez Street\, Austin\, TX\, USA \nIndustries & Audience: Professionals from the APA community\, including planners\, academics\, and students. \nVenue & Location\nThe event will take place at Austin Convention Center\, located at 500 East Cesar Chavez Street\, Austin\, TX\, USA. This centrally situated venue is easily accessible\, providing a seamless experience for attendees. The center features ample space for logistics\, allowing for smooth move-in and setup for exhibitors. \nFor inquiries\, please reach us at our main line. \nAustin\, TX: Our Services\nWe DESIGN\, PRODUCE\, INSTALL & DISMANTLE turnkey booth rentals in Austin\, TX. Our services include full concept/design\, modular frames\, branded SEG graphics\, reception/storage areas\, and on-site installation & dismantle. \nCustom Booth Models\nWe offer a variety of popular booth sizes including: \n\n10×10: Ideal for small exhibits\, this size is perfect for engaging with attendees while keeping your setup manageable.\n10×20: A versatile choice\, allowing for more product display and interaction opportunities.\n20×20: Best suited for larger brands that require ample space to make an impact\, ideal for high-traffic events.\n\nDiscover our Snap Exhibitions Custom Booth Models tailored to meet your needs or our full-service exhibit support options. For more information\, contact our team today! \nFAQ\n1. What is APA National Expo booth rental?\nAPA National Expo booth rental provides exhibitors tailored options to create an engaging presence at the expo. \n2. What are the event hours and dates for 2023?\nThe event runs from Aug 10 to 12\, from 9:00 AM to 5:00 PM each day. \n3. What booth sizes do you recommend for the APA crowd?\nA 10×10 or 10×20 booth is typically recommended for optimal engagement at the APA National Expo. \n4. Why choose an aluminum booth over wood?\nAluminum booths offer durability\, lighter weight for transport\, and a modern aesthetic compared to traditional wood. \n5. What services are provided in Austin for exhibitors?\nWe provide comprehensive exhibit services including design\, installation\, and dismantling of booths. \n6. How can SNAP EXHIBITIONS help make everything perfect about my booth?\nWe handle everything from design to installation\, ensuring you have a stress-free experience at the expo. \nIn conclusion\, APA National Expo booth rental provides exhibitors the opportunity to stand out and connect with their audience effectively. For a seamless experience and premium booth solutions\, contact our team today!
URL:https://weftec2026.com/event/apa-national-expo/
CATEGORIES:NULL
END:VEVENT
BEGIN:VEVENT
DTSTART;TZID=UTC:20251219T090000
DTEND;TZID=UTC:20251220T235959
DTSTAMP:20260422T001720
CREATED:20251010T094917Z
LAST-MODIFIED:20251010T094917Z
UID:25576-1766134800-1766275199@weftec2026.com
SUMMARY:GUN & KNIFE SHOW FRIDLEY 2025
DESCRIPTION:GUN & KNIFE SHOW FRIDLEY 2025 — Exhibitor Guide & Custom Booth Options\nAbout GUN & KNIFE SHOW FRIDLEY 2025\nGUN & KNIFE SHOW FRIDLEY 2025 booth rental is the ultimate opportunity for exhibitors in the self-defense weapon sector. Held from June 23 to 25\, visitors can explore a vast array of antique pistols\, rifles\, air guns\, combat knives\, and various hunting gears. This event not only showcases defensive weaponry but also offers exciting opportunities for collectibles enthusiasts\, making it a must-visit fair. \n\nKey Details: June 23–25\, 9:00 AM–5:00 PM\nLocation: Banquets of Minnesota\, 6310 Hwy 65 NE Fridley\, MN 55432\, United States\n\nThis event attracts key attendees from the Guns & Knives – Collectibles\, Defense – Armament\, Hunting & Fishing\, Collectors – Hobby industries. Exhibitors will gain exposure to a targeted audience captivated by arms and hunting collectibles. \nVenue & Location\nJoin us at Banquets of Minnesota\, a premier venue located at 6310 Hwy 65 NE in Fridley\, Minnesota. This easily accessible venue offers convenient move-in windows and dock access for set-up. Contact information for the venue is available upon request. \nFridley MN: Our Services\nIn Fridley\, we DESIGN\, PRODUCE\, INSTALL & DISMANTLE turnkey booth rentals. Our services cover every aspect\, from concept and design to modular frames\, branded SEG graphics\, reception/storage units\, TV mounts\, and on-site I&D. We ensure your booth stands out in the competitive landscape of weapon fairs. \nCustom Booth Models\nExplore our Snap Exhibitions Custom Booth Models\, designed to enhance attendee engagement. Options include popular footprints like 10×10\, 10×20\, and 20×20\, suited to the Guns & Knives sectors. Each design is tailored to fit the specific demands of exhibitors in this category. \nWe also provide full-service exhibit support\, ensuring everything from logistics to the final details is meticulously handled. If you’re interested\, contact our team to discuss how we can bring your vision to life! \nFAQ\n\nWhat are the event dates and hours for GUN & KNIFE SHOW FRIDLEY 2025? The event runs from June 23 to 25\, 9:00 AM to 5:00 PM daily.\nWhy should I consider a GUN & KNIFE SHOW FRIDLEY 2025 booth rental? Our booth rentals offer a comprehensive solution to showcase your products effectively to a targeted audience.\nWhat size booths are recommended for the collectibles industry? Booth sizes like 10×10 and 10×20 are popular for showcasing collectibles while allowing ample space for attendee engagement.\nWhy is an aluminum booth better than wood? Aluminum booths are lighter\, more durable\, and often provide a modern and sleek aesthetic\, perfect for high-traffic events.\nWhat services does Snap Exhibitions offer in Fridley? We design\, produce\, install\, and dismantle turnkey booth rentals\, ensuring your presence is impactful.\nCan you help with logistics at the event? Yes\, we handle all logistics\, including set-up\, tear-down\, and on-site assistance\, for a seamless experience.\nHow can Snap Exhibitions make my GUN & KNIFE SHOW FRIDLEY 2025 booth perfect? Our expertise in booth design and support ensures you have everything needed for a stunning exhibit. We are here to exceed your expectations!\n\nIn conclusion\, GUN & KNIFE SHOW FRIDLEY 2025 booth rental provides unparalleled exposure and opportunities for exhibitors. To make your exhibit experience seamless and impactful\, contact our team today!
URL:https://weftec2026.com/event/gun-knife-show-fridley-2025/
CATEGORIES:Collectors - Hobby,Defense - Armament,Guns & Knives - Collectibles,Hunting & Fishing
END:VEVENT
END:VCALENDAR